BEGIN:VCALENDAR
PRODID:-//eluceo/ical//2.0/EN
VERSION:2.0
CALSCALE:GREGORIAN
BEGIN:VEVENT
UID:cf855d66c8adcf56fef3477a54f59419
DTSTAMP:20260421T212043Z
SUMMARY:Hadassah Spring Brunch
DESCRIPTION:United Jewish Federation of Utah\nCalendar\nhttps://shalomutah.
 org/united-jewish-federation-of-utah-calendar/hadassah-spring-brunch\n\nHa
 dassah Spring Brunch
DTSTART;TZID=America/Denver:20130616T100000
DTEND;TZID=America/Denver:20130616T123000
END:VEVENT
END:VCALENDAR
