BEGIN:VCALENDAR
PRODID:-//eluceo/ical//2.0/EN
VERSION:2.0
CALSCALE:GREGORIAN
BEGIN:VEVENT
UID:c1e6c7c030812bfa1f55213b5ecfe96a
DTSTAMP:20260420T010621Z
SUMMARY:Hanukkah Family Celebration
DESCRIPTION:United Jewish Federation of Utah\nCalendar\nhttps://shalomutah.
 org/united-jewish-federation-of-utah-calendar/hanukkah-family-celebration\
 n\nAll families are welcome. Light the Lights! Join us as we celebrate Han
 ukkah and the "miracle of the lights" This fun event includes dinner\, an 
 interactive show featuring Mad Science experiments\, and of course the lig
 hting of the Hanukkah candles.
DTSTART;TZID=America/Denver:20171214T173000
DTEND;TZID=America/Denver:20171214T190000
END:VEVENT
END:VCALENDAR
