BEGIN:VCALENDAR
PRODID:-//eluceo/ical//2.0/EN
VERSION:2.0
CALSCALE:GREGORIAN
BEGIN:VEVENT
UID:ca8244a5b948b688fa65f6c6ad6faae0
DTSTAMP:20260420T155310Z
SUMMARY:Hanukkah Market
DESCRIPTION:United Jewish Federation of Utah\nCalendar\nhttps://shalomutah.
 org/united-jewish-federation-of-utah-calendar/hanukkah-market-1441912880\n
 \nThe annual Hanukkah Market is a tradition in Salt Lake City. Come eat\, 
 shop and socialize.
DTSTART;TZID=America/Denver:20151115T120000
DTEND;TZID=America/Denver:20151115T180000
END:VEVENT
END:VCALENDAR
