BEGIN:VCALENDAR
PRODID:-//eluceo/ical//2.0/EN
VERSION:2.0
CALSCALE:GREGORIAN
BEGIN:VEVENT
UID:fdb090e9b0dec854b6cd14a12d33afa6
DTSTAMP:20260419T201109Z
SUMMARY:Hanukkah Market
DESCRIPTION:United Jewish Federation of Utah\nCalendar\nhttps://shalomutah.
 org/united-jewish-federation-of-utah-calendar/hanukkah-market-1476209247\n
 \nGet your Latkes and Dreidels at the Hanukkah Market!
DTSTART;TZID=America/Denver:20161204T120000
DTEND;TZID=America/Denver:20161204T180000
END:VEVENT
END:VCALENDAR
