BEGIN:VCALENDAR
PRODID:-//eluceo/ical//2.0/EN
VERSION:2.0
CALSCALE:GREGORIAN
BEGIN:VEVENT
UID:ec769821d6e3a3fed13a400a1300ffb6
DTSTAMP:20260421T222627Z
SUMMARY:Hanukkah Market
DESCRIPTION:United Jewish Federation of Utah\nCalendar\nhttps://shalomutah.
 org/united-jewish-federation-of-utah-calendar/hanukkah-market-1493916390\n
 \nPlease join us to support the community and local businesses at the annu
 al Hanukkah Market. There will be gifts\, books and food from local vendor
 s available. This year we are expanding the Children's Art Yard to include
  more entertainment and activities for FREE!
DTSTART;TZID=America/Denver:20171203T120000
DTEND;TZID=America/Denver:20171203T170000
END:VEVENT
END:VCALENDAR
