BEGIN:VCALENDAR
PRODID:-//eluceo/ical//2.0/EN
VERSION:2.0
CALSCALE:GREGORIAN
BEGIN:VEVENT
UID:a583eb2175157469e51ec2039e9775f9
DTSTAMP:20260421T131431Z
SUMMARY:Hanukkah Menorah Lighting
DESCRIPTION:United Jewish Federation of Utah\nCalendar\nhttps://shalomutah.
 org/united-jewish-federation-of-utah-calendar/hanukkah-menorah-lighting-ch
 abad-pc\n\nLight the menorah at Waldorf Astoria in Park City with Chabad o
 f Park City.\n\nCelebrate light\, unity\, and hope with latkes\, sufganiyo
 t\, and warm apple cider.\n\n2100 Frostwood Drive | Park City\, Utah
DTSTART;TZID=America/Denver:20231210T173000
DTEND;TZID=America/Denver:20231210T180000
END:VEVENT
END:VCALENDAR
