BEGIN:VCALENDAR
PRODID:-//eluceo/ical//2.0/EN
VERSION:2.0
CALSCALE:GREGORIAN
BEGIN:VEVENT
UID:2790615186a44570a336fa141bc115f1
DTSTAMP:20260421T045745Z
SUMMARY:Hanukkah Party & Community Open House
DESCRIPTION:United Jewish Federation of Utah\nCalendar\nhttps://shalomutah.
 org/united-jewish-federation-of-utah-calendar/hanukkah-party--community-op
 en-house-1446586149\n\nThis is an opportunity for the general Jewish commu
 nity to celebrate Hanukkah with the Religious School at Congregation Kol A
 mi.
DTSTART;TZID=America/Denver:20151213T100000
DTEND;TZID=America/Denver:20151213T130000
END:VEVENT
END:VCALENDAR
