BEGIN:VCALENDAR
PRODID:-//eluceo/ical//2.0/EN
VERSION:2.0
CALSCALE:GREGORIAN
BEGIN:VEVENT
UID:35754ad2a6c7b31d3e42a9a63c93b468
DTSTAMP:20260423T025941Z
SUMMARY:Hanukkah Shabbat Service\, Dinner & Celebration
DESCRIPTION:United Jewish Federation of Utah\nCalendar\nhttps://shalomutah.
 org/united-jewish-federation-of-utah-calendar/hanukkah-shabbat-service-din
 ner--celebration-1479507866\n\nCelebrate Shabbat & Hanukkah with Music\, S
 habbat Services\, Candlelighting\, Dinner\, and Latkes!
DTSTART;TZID=America/Denver:20161230T183000
DTEND;TZID=America/Denver:20161230T213000
END:VEVENT
END:VCALENDAR
