BEGIN:VCALENDAR
PRODID:-//eluceo/ical//2.0/EN
VERSION:2.0
CALSCALE:GREGORIAN
BEGIN:VEVENT
UID:0276ab35d302e249614f96f9319ee906
DTSTAMP:20260422T211305Z
SUMMARY:Hula Hooping Work Out
DESCRIPTION:United Jewish Federation of Utah\nCalendar\nhttps://shalomutah.
 org/united-jewish-federation-of-utah-calendar/hula-hooping-work-out-141532
 8170\n\nA fun hula hooping class taught by Harriett Gunther! Whether you t
 hink you cannot hoop at all or want to learn a new trick or two – this c
 lass is for you! Come dance to fun music while playing with hoops. This ev
 ent is for all ages and all skill levels.  Member Price: $5 Non-Member Pri
 ce: $8
DTSTART;TZID=America/Denver:20141118T170000
DTEND;TZID=America/Denver:20141118T180000
END:VEVENT
END:VCALENDAR
