BEGIN:VCALENDAR
PRODID:-//eluceo/ical//2.0/EN
VERSION:2.0
CALSCALE:GREGORIAN
BEGIN:VEVENT
UID:e43f4afd04d3a15ad1ce7b5fdb6768f3
DTSTAMP:20260420T144332Z
SUMMARY:Human Trafficking Panel Discussion
DESCRIPTION:United Jewish Federation of Utah\nCalendar\nhttps://shalomutah.
 org/united-jewish-federation-of-utah-calendar/human-trafficking-panel-disc
 ussion-1564596028\n\nHuman trafficking is present even here in Utah. Prose
 cutor Daniel Strong\, police officer Ken Malone and Educational specialist
 \, Allison Smith from the Refugee & Immigrant Center of Utah will be part 
 of a panel discussion at the Jewish Community Center.
DTSTART;TZID=America/Denver:20190919T000000
DTEND;TZID=America/Denver:20190919T000000
END:VEVENT
END:VCALENDAR
