BEGIN:VCALENDAR
PRODID:-//eluceo/ical//2.0/EN
VERSION:2.0
CALSCALE:GREGORIAN
BEGIN:VEVENT
UID:df4527470d170d9296d49cb9d56af0cf
DTSTAMP:20260421T045815Z
SUMMARY:I Love You a Latke
DESCRIPTION:United Jewish Federation of Utah\nCalendar\nhttps://shalomutah.
 org/united-jewish-federation-of-utah-calendar/i-love-you-a-latke-160701875
 1\n\nKids and Teens!\n\nGet ready to prepare the most delicious latkes.\n\
 nEmail dvorig1@gmail.com for Zoom link and ingredient list.
DTSTART;TZID=America/Denver:20201203T180000
DTEND;TZID=America/Denver:20201203T190000
END:VEVENT
END:VCALENDAR
