BEGIN:VCALENDAR
PRODID:-//eluceo/ical//2.0/EN
VERSION:2.0
CALSCALE:GREGORIAN
BEGIN:VEVENT
UID:2a1d531bfe577b3973d47a1aec9d2fb4
DTSTAMP:20260421T233323Z
SUMMARY:IAC National Conference
DESCRIPTION:United Jewish Federation of Utah\nCalendar\nhttps://shalomutah.
 org/united-jewish-federation-of-utah-calendar/iac-national-conference-1493
 074132\n\nJoin thousands of community members at the IAC National Conferen
 ce in Washington DC to experience influential thought leaders\, industry e
 xperts\, senior political figures\, diplomatic figures\, community leaders
 \, prominent journalists and more. This inspiring three-day journey will e
 xplore Israeli-American and Jewish identity\, unite the Israeli-American a
 nd Jewish communities\, and understand how we can effectively strengthen I
 srael\, the Nation-State of the Jewish People. The IAC National Confere...
DTSTART;TZID=America/Denver:20171103T170000
DTEND;TZID=America/Denver:20171106T120000
END:VEVENT
END:VCALENDAR
