BEGIN:VCALENDAR
PRODID:-//eluceo/ical//2.0/EN
VERSION:2.0
CALSCALE:GREGORIAN
BEGIN:VEVENT
UID:77bfe65840d1511d8db93577b6872f59
DTSTAMP:20260419T212646Z
SUMMARY:IllumiNation: Make the 8th Night Bright!
DESCRIPTION:United Jewish Federation of Utah\nCalendar\nhttps://shalomutah.
 org/united-jewish-federation-of-utah-calendar/illumination-make-the-8th-ni
 ght-bright-1606756654\n\nA National Virtual Chanukah Celebration\nOrganize
 d by Congregation Kol Emeth in Palo Alto\, CA\nHanukkah reminds us that we
  have the power to bring light into any darkness.\nJoin Conservative Congr
 egations from across the nation as we light our menorahs\,\nshare holiday 
 music\, and connect with friends in celebration\, joy\, and unity.\nFeatur
 ed guests: Neshama Carlebach and AJ Jacobs
DTSTART;TZID=America/Denver:20201217T183000
DTEND;TZID=America/Denver:20201217T193000
END:VEVENT
END:VCALENDAR
