BEGIN:VCALENDAR
PRODID:-//eluceo/ical//2.0/EN
VERSION:2.0
CALSCALE:GREGORIAN
BEGIN:VEVENT
UID:8a9648f32a93e7a09bdbfd568bcbf941
DTSTAMP:20260420T142556Z
SUMMARY:Interfaith Month:  A Reading of Poems Across Religions
DESCRIPTION:United Jewish Federation of Utah\nCalendar\nhttps://shalomutah.
 org/united-jewish-federation-of-utah-calendar/interfaith-month--a-reading-
 of-poems-across-religions-1455594287\n\n"My Look-alike at the Krishna Temp
 le: A Reading of Poems Across Religions" by Jacqueline Osherow\, Distingui
 shed Professor of English and Creative Writing\, University of Utah Kol Am
 i congregant Jackie Osherow\, the author of seven collections of poetry\, 
 most recently "Ultimatum from Paradise\," is the recipient of numerous awa
 rds\, prizes and grants. Her poems have appeared in a wide range of journa
 ls and anthologies\, including The Paris Review\, The New Yorker\, The Nor
 ton Anthology of Jewish-Amer...
DTSTART;TZID=America/Denver:20160228T100000
DTEND;TZID=America/Denver:20160228T120000
END:VEVENT
END:VCALENDAR
