BEGIN:VCALENDAR
PRODID:-//eluceo/ical//2.0/EN
VERSION:2.0
CALSCALE:GREGORIAN
BEGIN:VEVENT
UID:68b7f3e7447c86aa531de4ebb2bfb899
DTSTAMP:20260423T024921Z
SUMMARY:International Holocaust Remembrance Day
DESCRIPTION:United Jewish Federation of Utah\nCalendar\nhttps://shalomutah.
 org/united-jewish-federation-of-utah-calendar/international-holocaust-reme
 mbrance-day\n\nIn honor of this important day the Sousa Mendes Foundation 
 and the Utah Youth Orchestras and Ensembles present a performance in the M
 ormon Tabernacle of the oratorio Circular 14: The Apotheosis of Aristides 
 by Neely Bruce. This free concert\, will be conducted by the world-renown
 ed choral conductor Barlow Bradford.\n\n\n\n \n\n \n\nSponsors\n\n \n\n
 The Church of Jesus Christ of Latter-Day Saints Foundation\, the George S.
  and Dolores Doré Eccles Foundation\, the Lawrence T. and Janet T. Dee...
DTSTART;TZID=America/Denver:20180127T190000
DTEND;TZID=America/Denver:20180127T213000
END:VEVENT
END:VCALENDAR
