BEGIN:VCALENDAR
PRODID:-//eluceo/ical//2.0/EN
VERSION:2.0
CALSCALE:GREGORIAN
BEGIN:VEVENT
UID:29fde819a86eeee744d6d65342e2b107
DTSTAMP:20260420T180547Z
SUMMARY:International KIDS Shabbat Dinner
DESCRIPTION:United Jewish Federation of Utah\nCalendar\nhttps://shalomutah.
 org/united-jewish-federation-of-utah-calendar/international-kids-shabbat-d
 inner-1484164541\n\nThe kids are the stars of the show!\n\nJoin us\, as we
  join together with hundreds of other cities from around the world for a F
 amily Shabbat Dinner\, centered around Jewish Kids!\n\nFriday\, January 20
 \, 2017\nServices at 6:00 PM\, Shabbat Dinner at 7:00 PM\n\nCost: $36 per 
 family\, $100 Shabbat Dinner Sponsor\n\nFor Jewish Children\, ages 13 and 
 under\, and their families!
DTSTART;TZID=America/Denver:20170120T190000
DTEND;TZID=America/Denver:20170120T210000
END:VEVENT
END:VCALENDAR
