BEGIN:VCALENDAR
PRODID:-//eluceo/ical//2.0/EN
VERSION:2.0
CALSCALE:GREGORIAN
BEGIN:VEVENT
UID:f521d256cf3e9a53bc36538c86cd9489
DTSTAMP:20260420T180527Z
SUMMARY:Islam 101 at Temple Har Shalom - SOLD OUT!!
DESCRIPTION:United Jewish Federation of Utah\nCalendar\nhttps://shalomutah.
 org/united-jewish-federation-of-utah-calendar/islam-101-at-temple-har-shal
 om-1539098823\n\nREGISTRATION CLOSED!!\n\nSOLD OUT\n\nLast year we had a c
 hance to meet our Muslim brothers and sisters at the Iftar in the Synagogu
 e. Now\, we have a chance to learn about their religion with Dr. Safi Safu
 allah.\n\nREGISTRATION CLOSED!!\n\nSOLD OUT
DTSTART;TZID=America/Denver:20181027T190000
DTEND;TZID=America/Denver:20181027T210000
END:VEVENT
END:VCALENDAR
