BEGIN:VCALENDAR
PRODID:-//eluceo/ical//2.0/EN
VERSION:2.0
CALSCALE:GREGORIAN
BEGIN:VEVENT
UID:34fb8a500934d52372b0b35f215141f6
DTSTAMP:20260419T130744Z
SUMMARY:Israel Bootcamp
DESCRIPTION:United Jewish Federation of Utah\nCalendar\nhttps://shalomutah.
 org/united-jewish-federation-of-utah-calendar/israel-bootcamp-nov-2024\n\n
 This program is for 10th\, 11th\, and 12th graders across Utah\, led by Yo
 ni Buckman from Unpacked for Educators. It aims to strengthen students' pr
 ide in the State of Israel and Zionism while equipping them to engage in n
 uanced\, thoughtful\, discussions about challenging topics. Through intera
 ctive sessions\, students will explore their personal connections to Zioni
 sm\, delve into the intricacies of Israels identity\, and develop cruicial
  skills for facilitating courageous and civil conversations....
DTSTART;TZID=America/Denver:20241103T123000
DTEND;TZID=America/Denver:20241103T173000
END:VEVENT
END:VCALENDAR
