BEGIN:VCALENDAR
PRODID:-//eluceo/ical//2.0/EN
VERSION:2.0
CALSCALE:GREGORIAN
BEGIN:VEVENT
UID:283e1ef11e3a71e6ba956bca47d51da4
DTSTAMP:20260421T140125Z
SUMMARY:Israel Connect: Behind the Headlines
DESCRIPTION:United Jewish Federation of Utah\nCalendar\nhttps://shalomutah.
 org/united-jewish-federation-of-utah-calendar/israel-connect-behind-the-he
 adlines\n\nThis is a webinar featuring Middle East and Israel Advocacy E
 xpert\, Neil Lazarus.\n\n \n\nEmail Joy Fisher for the zoom link.\n\n \n
 \nBrought to you by the Israeli Counsel General
DTSTART;TZID=America/Denver:20200406T130000
DTEND;TZID=America/Denver:20200406T140000
END:VEVENT
END:VCALENDAR
