BEGIN:VCALENDAR
PRODID:-//eluceo/ical//2.0/EN
VERSION:2.0
CALSCALE:GREGORIAN
BEGIN:VEVENT
UID:60fe0d88b0e93e6b33beaf9a72a65344
DTSTAMP:20260421T065744Z
SUMMARY:Israel Festival 70 years
DESCRIPTION:United Jewish Federation of Utah\nCalendar\nhttps://shalomutah.
 org/united-jewish-federation-of-utah-calendar/israel-festival-70-years\n\n
 Join us as we celebrate Israels 70th!
DTSTART;TZID=America/Denver:20180422T123000
DTEND;TZID=America/Denver:20180422T143000
END:VEVENT
END:VCALENDAR
