BEGIN:VCALENDAR
PRODID:-//eluceo/ical//2.0/EN
VERSION:2.0
CALSCALE:GREGORIAN
BEGIN:VEVENT
UID:578a8a0ad8df0fb8828aa502abcc8fad
DTSTAMP:20260420T085932Z
SUMMARY:Israel Time with Talia 2nd - 4th
DESCRIPTION:United Jewish Federation of Utah\nCalendar\nhttps://shalomutah.
 org/united-jewish-federation-of-utah-calendar/israel-time-with-talia-2nd-4
 th\n\n2nd - 4th Grade\n\n Jerusalem craft- color on aluminum foil \n\nV
 ia Zoom \n\nEmail Joy Fisher for the link\n\nSupplies Needed:\n\naluminum
  foil\, a piece of cardboard\, sharpies
DTSTART;TZID=America/Denver:20200514T150000
DTEND;TZID=America/Denver:20200514T160000
END:VEVENT
END:VCALENDAR
