BEGIN:VCALENDAR
PRODID:-//eluceo/ical//2.0/EN
VERSION:2.0
CALSCALE:GREGORIAN
BEGIN:VEVENT
UID:58ee533d2cdc3c4ee1768e1520938a85
DTSTAMP:20260421T025035Z
SUMMARY:Israel Time with Talia 5th & 6th
DESCRIPTION:United Jewish Federation of Utah\nCalendar\nhttps://shalomutah.
 org/united-jewish-federation-of-utah-calendar/israel-time-with-talia-5th-6
 th\n\n5th & 6th Grade\n\n Jerusalem jars \n\n \n\nVia Zoom\n\nEmail Joy
  Fisher for the link\n\n \n\nSupplies Needed:\n\ncolorful tissue paper\, 
 glue\, jars in any size\, scissors
DTSTART;TZID=America/Denver:20200513T150000
DTEND;TZID=America/Denver:20200513T160000
END:VEVENT
END:VCALENDAR
