BEGIN:VCALENDAR
PRODID:-//eluceo/ical//2.0/EN
VERSION:2.0
CALSCALE:GREGORIAN
BEGIN:VEVENT
UID:768022823207bb721d5af7e44b4afe32
DTSTAMP:20260419T151459Z
SUMMARY:Israeli Film Tour at the Salt Lake Film Society
DESCRIPTION:United Jewish Federation of Utah\nCalendar\nhttps://shalomutah.
 org/united-jewish-federation-of-utah-calendar/israeli-film-tour-at-the-sal
 t-lake-film-society-1545413700\n\nThe Salt Lake Film Society (Broadway and
  Tower Theaters) will present an Israeli Film Tour for the community. The 
 goal of the film tour is to add to the cultural core of the community. The
  film series will consist of a Red Carpet Event followed by a feature film
  and Q and A by the filmmaker. The following evening will consist of three
  Israeli films that will serve to acquaint the viewer with Israeli life.
DTSTART;TZID=America/Denver:20190313T170000
DTEND;TZID=America/Denver:20190313T230000
END:VEVENT
END:VCALENDAR
