BEGIN:VCALENDAR
PRODID:-//eluceo/ical//2.0/EN
VERSION:2.0
CALSCALE:GREGORIAN
BEGIN:VEVENT
UID:f88748a44a1f0a6119a0cdeb0152e0d9
DTSTAMP:20260420T020928Z
SUMMARY:Israeli Scouts - Join Us at Congregation Kol Ami
DESCRIPTION:United Jewish Federation of Utah\nCalendar\nhttps://shalomutah.
 org/united-jewish-federation-of-utah-calendar/israeli-scouts---join-us-at-
 congregation-kol-ami\n\nIsraeli Scouts - Join Us at Congregation Kol Ami
DTSTART;TZID=America/Denver:20130711T190000
DTEND;TZID=America/Denver:20130711T200000
END:VEVENT
END:VCALENDAR
