BEGIN:VCALENDAR
PRODID:-//eluceo/ical//2.0/EN
VERSION:2.0
CALSCALE:GREGORIAN
BEGIN:VEVENT
UID:6cfe506877a2d375459182615246e0f3
DTSTAMP:20260420T173716Z
SUMMARY:Israeli Scouts - Join Us at Temple Har Shalom
DESCRIPTION:United Jewish Federation of Utah\nCalendar\nhttps://shalomutah.
 org/united-jewish-federation-of-utah-calendar/israeli-scouts---join-us-at-
 temple-har-shalom\n\nIsraeli Scouts - Join Us at Temple Har Shalom
DTSTART;TZID=America/Denver:20130712T193000
DTEND;TZID=America/Denver:20130712T203000
END:VEVENT
END:VCALENDAR
