BEGIN:VCALENDAR
PRODID:-//eluceo/ical//2.0/EN
VERSION:2.0
CALSCALE:GREGORIAN
BEGIN:VEVENT
UID:f8ffff6e6501f67c65ba87b3b996e63c
DTSTAMP:20260419T151408Z
SUMMARY:Israeli Scouts - Friendship Caravan Omer
DESCRIPTION:United Jewish Federation of Utah\nCalendar\nhttps://shalomutah.
 org/united-jewish-federation-of-utah-calendar/israeli-scouts-friendship-ca
 ravan-omer\n\nThe United Jewish Federation of Utah invites you to come and
  enjoy the exciting and entertaining Israeli Scouts performers. This song 
 & dance troupe introduces Israeli culture and folklore in performances for
  audiences of all ages\, races and religions\, and expresses the vast cult
 ural diversity in Israel. Laugh and sing along as these ten fantastic High
  School seniors tell their stories through song and artistry. They were ch
 osen after a competitive “American Idol” like national search. Th...
DTSTART;TZID=America/Denver:20140715T183000
DTEND;TZID=America/Denver:20140715T200000
END:VEVENT
END:VCALENDAR
