BEGIN:VCALENDAR
PRODID:-//eluceo/ical//2.0/EN
VERSION:2.0
CALSCALE:GREGORIAN
BEGIN:VEVENT
UID:22245d5e37b13cb654c4f47d8b9957c0
DTSTAMP:20260421T191802Z
SUMMARY:JCC Hanukkah Market
DESCRIPTION:United Jewish Federation of Utah\nCalendar\nhttps://shalomutah.
 org/united-jewish-federation-of-utah-calendar/jcc-hanukkah-market\n\nJCC H
 anukkah Market
DTSTART;TZID=America/Denver:20131117T120000
DTEND;TZID=America/Denver:20131117T180000
END:VEVENT
END:VCALENDAR
