BEGIN:VCALENDAR
PRODID:-//eluceo/ical//2.0/EN
VERSION:2.0
CALSCALE:GREGORIAN
BEGIN:VEVENT
UID:e9839dc0bc8495308faeb19aac5b18cc
DTSTAMP:20260420T225325Z
SUMMARY:JCC Shalom on the Range
DESCRIPTION:United Jewish Federation of Utah\nCalendar\nhttps://shalomutah.
 org/united-jewish-federation-of-utah-calendar/jcc-shalom-on-the-ranch-1422
 579409\n\nFundraising for the JCC
DTSTART;TZID=America/Denver:20150514T180000
DTEND;TZID=America/Denver:20150514T210000
END:VEVENT
END:VCALENDAR
