BEGIN:VCALENDAR
PRODID:-//eluceo/ical//2.0/EN
VERSION:2.0
CALSCALE:GREGORIAN
BEGIN:VEVENT
UID:69489878672a55fc73835c128e441ced
DTSTAMP:20260420T151107Z
SUMMARY:Jewish Arts Festival - Deli Night
DESCRIPTION:United Jewish Federation of Utah\nCalendar\nhttps://shalomutah.
 org/united-jewish-federation-of-utah-calendar/jewish-arts-festival---deli-
 night-1442955254\n\nThe JCC is partnering with the local business\, Feldma
 n's Deli. We will have delicious noshes and watch the movie\, Deli Man\, t
 he story of Ziggy Gruber\, the third generation deli man. The story of the
  American Deli is the story of the American Jews- their immigration\, migr
 ation\, upward mobility and western assimilation.
DTSTART;TZID=America/Denver:20151112T190000
DTEND;TZID=America/Denver:20151112T220000
END:VEVENT
END:VCALENDAR
