BEGIN:VCALENDAR
PRODID:-//eluceo/ical//2.0/EN
VERSION:2.0
CALSCALE:GREGORIAN
BEGIN:VEVENT
UID:c43bd6c6af13e16df2f2a170c4cf174c
DTSTAMP:20260420T131821Z
SUMMARY:Jewish Arts Festival - Dough
DESCRIPTION:United Jewish Federation of Utah\nCalendar\nhttps://shalomutah.
 org/united-jewish-federation-of-utah-calendar/jewish-arts-festival---dough
 -1442954841\n\nDough is a Dramedy starring Jonathan Price as an old Jewish
  baker whose faltering business is inadvertently saved by his Muslim appre
 ntice.
DTSTART;TZID=America/Denver:20151110T190000
DTEND;TZID=America/Denver:20151110T220000
END:VEVENT
END:VCALENDAR
