BEGIN:VCALENDAR
PRODID:-//eluceo/ical//2.0/EN
VERSION:2.0
CALSCALE:GREGORIAN
BEGIN:VEVENT
UID:5e9686138012d90290e94049ed9f9a93
DTSTAMP:20260419T185055Z
SUMMARY:Jewish Arts Festival - Israeli Tapas and Movie
DESCRIPTION:United Jewish Federation of Utah\nCalendar\nhttps://shalomutah.
 org/united-jewish-federation-of-utah-calendar/jewish-arts-festival---israe
 li-tapas-and-movie-1493916046\n\nPlease join us for a special screening of
  Mr. Gaga. A documentary about Ohad Naharin\, choreographer for Batsheva D
 ance Company in Israel. Before the film join us for a reception with Israe
 li Tapas and Wine.
DTSTART;TZID=America/Denver:20171105T180000
DTEND;TZID=America/Denver:20171105T210000
END:VEVENT
END:VCALENDAR
