BEGIN:VCALENDAR
PRODID:-//eluceo/ical//2.0/EN
VERSION:2.0
CALSCALE:GREGORIAN
BEGIN:VEVENT
UID:99258c296277dd54bed403c33e95966b
DTSTAMP:20260419T232417Z
SUMMARY:Jewish Arts Festival - Opening Night
DESCRIPTION:United Jewish Federation of Utah\nCalendar\nhttps://shalomutah.
 org/united-jewish-federation-of-utah-calendar/jewish-arts-festival---openi
 ng-night-1442954212\n\nTwo performances: 6 PM or 8:30 PM\, \, Talkback wit
 h actor and director 7 PM. Dinner at 7:30 PM
DTSTART;TZID=America/Denver:20151107T180000
DTEND;TZID=America/Denver:20151107T220000
END:VEVENT
END:VCALENDAR
