BEGIN:VCALENDAR
PRODID:-//eluceo/ical//2.0/EN
VERSION:2.0
CALSCALE:GREGORIAN
BEGIN:VEVENT
UID:97da75c5c3631d50177cfe58994405f2
DTSTAMP:20260420T131536Z
SUMMARY:Jewish Arts Festival- Belly Laughs: Comedy That Cooks
DESCRIPTION:United Jewish Federation of Utah\nCalendar\nhttps://shalomutah.
 org/united-jewish-federation-of-utah-calendar/jewish-arts-festival--belly-
 laughs-comedy-that-cooks-1533677517\n\n Belly Laughs is a live stage show 
 featuring Joel&rsquo\;s unique brand of uplifting\, positive Jewish comedy
 \; a cooking demonstration by Lior\; and an onstage interview/Q&amp\;A wit
 h Lior\, about what it&rsquo\;s like to be an Israeli chef in the New York
  culinary scene. 
DTSTART;TZID=America/Denver:20181108T180000
DTEND;TZID=America/Denver:20181108T210000
END:VEVENT
END:VCALENDAR
