BEGIN:VCALENDAR
PRODID:-//eluceo/ical//2.0/EN
VERSION:2.0
CALSCALE:GREGORIAN
BEGIN:VEVENT
UID:add5c51cdcad4ac4e408ba2db24009e8
DTSTAMP:20260420T062508Z
SUMMARY:Jewish Arts Festival- Hanukkah Market
DESCRIPTION:United Jewish Federation of Utah\nCalendar\nhttps://shalomutah.
 org/united-jewish-federation-of-utah-calendar/jewish-arts-festival--hanukk
 ah-market-1533678231\n\nThe Hanukkah Market is an annual tradition in Salt
  Lake City. You can bring the entire family to shop\, eat and have fun!
DTSTART;TZID=America/Denver:20181111T120000
DTEND;TZID=America/Denver:20181111T170000
END:VEVENT
END:VCALENDAR
