BEGIN:VCALENDAR
PRODID:-//eluceo/ical//2.0/EN
VERSION:2.0
CALSCALE:GREGORIAN
BEGIN:VEVENT
UID:ffe3e1af191728837564532d62919555
DTSTAMP:20260419T203211Z
SUMMARY:Jewish Arts Festival- Raise the Roof
DESCRIPTION:United Jewish Federation of Utah\nCalendar\nhttps://shalomutah.
 org/united-jewish-federation-of-utah-calendar/jewish-arts-festival--raise-
 the-roof-1442954553\n\nRaise the Roof is a documentary about the rebuildin
 g of a synagogue in Poland. An international team of artisans and students
  set out to reconstruct one of the wooden synagogues destroyed by the Nazi
 's. David Kaplan of Salt Lake City will be speaking about his experiences 
 on the crew after the film.
DTSTART;TZID=America/Denver:20151108T190000
DTEND;TZID=America/Denver:20151108T220000
END:VEVENT
END:VCALENDAR
