BEGIN:VCALENDAR
PRODID:-//eluceo/ical//2.0/EN
VERSION:2.0
CALSCALE:GREGORIAN
BEGIN:VEVENT
UID:e2b1f025de1b5f366fa7e5e78bdaf179
DTSTAMP:20260420T164100Z
SUMMARY:Jewish Arts Festival
DESCRIPTION:United Jewish Federation of Utah\nCalendar\nhttps://shalomutah.
 org/united-jewish-federation-of-utah-calendar/jewish-arts-festival-1468431
 780\n\nThe Jewish Arts Festival (JAF) is our signature public event and is
  scheduled for November 3-6\, 2016. The goal of JAF is to bring the entire
  community together to celebrate and experience the rich history of Jewish
  arts and culture through a variety of mediums - accessible to all.
DTSTART;TZID=America/Denver:20161103T183000
DTEND;TZID=America/Denver:20161103T210000
END:VEVENT
END:VCALENDAR
