BEGIN:VCALENDAR
PRODID:-//eluceo/ical//2.0/EN
VERSION:2.0
CALSCALE:GREGORIAN
BEGIN:VEVENT
UID:bdc68a71236750a156d0d3e539adc216
DTSTAMP:20260420T142703Z
SUMMARY:Jewish Arts Festival
DESCRIPTION:United Jewish Federation of Utah\nCalendar\nhttps://shalomutah.
 org/united-jewish-federation-of-utah-calendar/jewish-arts-festival-1493915
 342\n\nThe Jewish Arts Festival opens with a Deli Night and Klezmer music.
DTSTART;TZID=America/Denver:20171102T180000
DTEND;TZID=America/Denver:20171102T200000
END:VEVENT
END:VCALENDAR
