BEGIN:VCALENDAR
PRODID:-//eluceo/ical//2.0/EN
VERSION:2.0
CALSCALE:GREGORIAN
BEGIN:VEVENT
UID:1aa00e0c5557fbfc55d879dfea5eb060
DTSTAMP:20260420T142643Z
SUMMARY:Jewish Arts Festival
DESCRIPTION:United Jewish Federation of Utah\nCalendar\nhttps://shalomutah.
 org/united-jewish-federation-of-utah-calendar/jewish-arts-festival-1493915
 616\n\nPlease join us at the JCC for an evening of dance with Ririe Woodbu
 ry Dance Company. The evening will start with Havdallah and dinner\, follo
 wed by a special dance performance created for this community event.
DTSTART;TZID=America/Denver:20171104T190000
DTEND;TZID=America/Denver:20171104T213000
END:VEVENT
END:VCALENDAR
