BEGIN:VCALENDAR
PRODID:-//eluceo/ical//2.0/EN
VERSION:2.0
CALSCALE:GREGORIAN
BEGIN:VEVENT
UID:9d87516c94741094f2b9d6bac06bfb65
DTSTAMP:20260420T142536Z
SUMMARY:Jewish Arts Festival
DESCRIPTION:United Jewish Federation of Utah\nCalendar\nhttps://shalomutah.
 org/united-jewish-federation-of-utah-calendar/jewish-arts-festival-1571759
 594\n\nNovember 9\n6:30pm-9:30pm\nJewish/Italian Connection Dinner with wi
 ne pairing\n$36 per person\nAdult only because of all the wine being serve
 d!\nWe will begin the evening with Havdalah immediately followed by explor
 ing the culinary crossroads of Jewish and Italian culture. Learn about Jew
 ish/Italian history while savoring the foods and wines of the region. Enjo
 y the expertise of Sheral Schowe\, M.Ed.\,FWS wine educator and founder of
  Wasatch Academy of Wine\, LLC. \n
DTSTART;TZID=America/Denver:20191109T183000
DTEND;TZID=America/Denver:20191109T213000
END:VEVENT
END:VCALENDAR
