BEGIN:VCALENDAR
PRODID:-//eluceo/ical//2.0/EN
VERSION:2.0
CALSCALE:GREGORIAN
BEGIN:VEVENT
UID:fd5a23de2c6f8870584c087238dfce91
DTSTAMP:20260420T183636Z
SUMMARY:Jewish Arts Festival
DESCRIPTION:United Jewish Federation of Utah\nCalendar\nhttps://shalomutah.
 org/united-jewish-federation-of-utah-calendar/jewish-arts-festival-1571759
 930\n\nNovember 16\n6pm-9pm\nRoy Dahan: Israeli singer-songwriter and phot
 ographer\n$36 per person includes dinner by Mazza.\nCash Bar/Adult only\nR
 oy Dahan was born and raised in the village of Korazim.  We are privileged
  to have him showcase his art and perform his unique blend of Israeli and 
 Western music.\n\n
DTSTART;TZID=America/Denver:20191116T180000
DTEND;TZID=America/Denver:20191116T210000
END:VEVENT
END:VCALENDAR
