BEGIN:VCALENDAR
PRODID:-//eluceo/ical//2.0/EN
VERSION:2.0
CALSCALE:GREGORIAN
BEGIN:VEVENT
UID:b03e72bc1f4b8c180c00ab6d36003175
DTSTAMP:20260420T193324Z
SUMMARY:Jewish Arts Festival
DESCRIPTION:United Jewish Federation of Utah\nCalendar\nhttps://shalomutah.
 org/united-jewish-federation-of-utah-calendar/jewish-arts-festival-1571760
 236\n\nDecember 8\n12noon-5pm\nHanukkah Market\nFREE!  ALL ages welcome.\n
 Featuring local art vendors\, food and family fun  \n
DTSTART;TZID=America/Denver:20191208T120000
DTEND;TZID=America/Denver:20191208T170000
END:VEVENT
END:VCALENDAR
