BEGIN:VCALENDAR
PRODID:-//eluceo/ical//2.0/EN
VERSION:2.0
CALSCALE:GREGORIAN
BEGIN:VEVENT
UID:ba3a635ea0a23dfe47dc17d184940911
DTSTAMP:20260420T142436Z
SUMMARY:Jewish Arts Festival: An Evening with Steve Katz
DESCRIPTION:United Jewish Federation of Utah\nCalendar\nhttps://shalomutah.
 org/united-jewish-federation-of-utah-calendar/jewish-arts-festival-an-even
 ing-with-steve-katz-1470170529\n\nBest known as the guitarist from the 60
 ’s and 70’s band\, Blood Sweat and Tears\, Steve Katz came into the mu
 sic world during a very influential period of Rock and Roll. Steve was a p
 ioneer of the blues-rock genre with his early band\, The Blues Project and
  went on to produce several best-selling albums for Lou Reed in the 70’s
 . Katz will offer a chronological retrospective of his career in both stor
 y and song - all infused with a humor that only a New York Jewish ex-rock 
 star can bring to...
DTSTART;TZID=America/Denver:20161105T180000
DTEND;TZID=America/Denver:20161105T220000
END:VEVENT
END:VCALENDAR
