BEGIN:VCALENDAR
PRODID:-//eluceo/ical//2.0/EN
VERSION:2.0
CALSCALE:GREGORIAN
BEGIN:VEVENT
UID:da33e034467edf9118864e6e90c210fd
DTSTAMP:20260419T170010Z
SUMMARY:Jewish Arts Festival: Free Movie Day
DESCRIPTION:United Jewish Federation of Utah\nCalendar\nhttps://shalomutah.
 org/united-jewish-federation-of-utah-calendar/jewish-arts-festival-free-mo
 vie-day-1470170792\n\nOur free movie day will feature :\nBelle and Sebasti
 an (104 min\, French\, Family Drama\, 10+) - A six-year-old boy and his do
 g look to foil a Nazi effort to capture French Resistance fighters\, 4 sho
 rt films that show different perspectives on modern Jewish and Israeli lif
 e and Apples in the Desert (96 min\, Israel\, Drama) - The rebellious daug
 hter of ultra-Orthodox parents journeys into the secular world in a romant
 ic coming-of-age tale that explores themes of love\, reconciliation and tr
 adition ...
DTSTART;TZID=America/Denver:20161106T150000
DTEND;TZID=America/Denver:20161106T210000
END:VEVENT
END:VCALENDAR
