BEGIN:VCALENDAR
PRODID:-//eluceo/ical//2.0/EN
VERSION:2.0
CALSCALE:GREGORIAN
BEGIN:VEVENT
UID:8be3266f4d71b985cd11e7aa3d4d9c97
DTSTAMP:20260421T033457Z
SUMMARY:Jewish Cocktails and Craftivities
DESCRIPTION:United Jewish Federation of Utah\nCalendar\nhttps://shalomutah.
 org/united-jewish-federation-of-utah-calendar/jewish-cocktails-and-craftiv
 ities-1554925642\n\nWe’re excited to launch our new (monthly!) Jewish 
 “Cocktails and Craftivities” series designed by-and-for Young Professi
 onals. Programs meet offsite in private homes\, apartments\, backyards and
  more.
DTSTART;TZID=America/Denver:20190612T183000
DTEND;TZID=America/Denver:20190612T200000
END:VEVENT
END:VCALENDAR
