BEGIN:VCALENDAR
PRODID:-//eluceo/ical//2.0/EN
VERSION:2.0
CALSCALE:GREGORIAN
BEGIN:VEVENT
UID:82a415acc7166817c36022a4a32860d3
DTSTAMP:20260420T213335Z
SUMMARY:Jewish Cocktails and Craftivities
DESCRIPTION:United Jewish Federation of Utah\nCalendar\nhttps://shalomutah.
 org/united-jewish-federation-of-utah-calendar/jewish-cocktails-and-craftiv
 ities-1555623774\n\nWe’re excited to launch our new (monthly!) Jewish 
 “Cocktails and Craftivities” series designed by-and-for Young Professi
 onals. Programs meet offsite in members’ homes\, apartments\, backyards 
 and more.
DTSTART;TZID=America/Denver:20190731T183000
DTEND;TZID=America/Denver:20190731T200000
END:VEVENT
END:VCALENDAR
