BEGIN:VCALENDAR
PRODID:-//eluceo/ical//2.0/EN
VERSION:2.0
CALSCALE:GREGORIAN
BEGIN:VEVENT
UID:f82396b0122d654965c890d6fde08ad5
DTSTAMP:20260421T042114Z
SUMMARY:Jewish Day at the Capitol 2015
DESCRIPTION:United Jewish Federation of Utah\nCalendar\nhttps://shalomutah.
 org/united-jewish-federation-of-utah-calendar/jewish-day-at-the-capitol-20
 15-1421886175\n\nJoin Jewish community representatives at the Utah State C
 apitol to discuss current social justice issues with our elected represent
 atives. RSVP at www.conkolami.org oe email Matthew Weinstein at weinsteinm
 @gmail.com
DTSTART;TZID=America/Denver:20150212T090000
DTEND;TZID=America/Denver:20150212T130000
END:VEVENT
END:VCALENDAR
