BEGIN:VCALENDAR
PRODID:-//eluceo/ical//2.0/EN
VERSION:2.0
CALSCALE:GREGORIAN
BEGIN:VEVENT
UID:b69be43ea9658a35c222a3f96ba15735
DTSTAMP:20260421T040147Z
SUMMARY:Jewish Family Service Annual Tribute Dinner
DESCRIPTION:United Jewish Federation of Utah\nCalendar\nhttps://shalomutah.
 org/united-jewish-federation-of-utah-calendar/jewish-family-service-annual
 -tribute-dinner-1477683468\n\nPlease join us for our Annual Tribute Dinner
 .
DTSTART;TZID=America/Denver:20171022T173000
DTEND;TZID=America/Denver:20171022T213000
END:VEVENT
END:VCALENDAR
