BEGIN:VCALENDAR
PRODID:-//eluceo/ical//2.0/EN
VERSION:2.0
CALSCALE:GREGORIAN
BEGIN:VEVENT
UID:3b743d73c815b01801f698334b91be2b
DTSTAMP:20260420T173944Z
SUMMARY:Jewish Family Service Lecture Series
DESCRIPTION:United Jewish Federation of Utah\nCalendar\nhttps://shalomutah.
 org/united-jewish-federation-of-utah-calendar/jewish-family-service-lectur
 e-series-1439307841\n\nJewish Family Service Community Lecture Series at M
 cGillis School.
DTSTART;TZID=America/Denver:20160406T190000
DTEND;TZID=America/Denver:20160406T203000
END:VEVENT
END:VCALENDAR
