BEGIN:VCALENDAR
PRODID:-//eluceo/ical//2.0/EN
VERSION:2.0
CALSCALE:GREGORIAN
BEGIN:VEVENT
UID:5da00a4904fca265723bdfcc87ca825f
DTSTAMP:20260421T005118Z
SUMMARY:Jewish Family Service Lecture Series
DESCRIPTION:United Jewish Federation of Utah\nCalendar\nhttps://shalomutah.
 org/united-jewish-federation-of-utah-calendar/jewish-family-service-lectur
 e-series-1439307938\n\nJewish Family Service Community Lecture Series
DTSTART;TZID=America/Denver:20160504T190000
DTEND;TZID=America/Denver:20160504T203000
END:VEVENT
END:VCALENDAR
