BEGIN:VCALENDAR
PRODID:-//eluceo/ical//2.0/EN
VERSION:2.0
CALSCALE:GREGORIAN
BEGIN:VEVENT
UID:d8a75fe7f170a8500e23853d54e89fd5
DTSTAMP:20260420T215111Z
SUMMARY:Jewish Family Service Tribute Dinner - "Service Matters"
DESCRIPTION:United Jewish Federation of Utah\nCalendar\nhttps://shalomutah.
 org/united-jewish-federation-of-utah-calendar/jewish-family-service-tribut
 e-dinner---service-matters-1444408258\n\nJewish Family Service (JFS) will 
 recognize three Utah women who are actively dedicating their professional 
 and personal lives to community\, public\, and volunteer service. The 8th 
 Annual JFS Tribute Dinner - “Service Matters” - will take place on Sun
 day\, October 25th at Little America Hotel (500 S. Main Street) at 5:00pm.
  With questions or to register\, call Elizabeth at 801.746.4334 or visit: 
 https://www.jfsutah.org/support-jfs/tributedinner.The event will honor Uta
 h State Representative P...
DTSTART;TZID=America/Denver:20151025T170000
DTEND;TZID=America/Denver:20151025T210000
END:VEVENT
END:VCALENDAR
